Workbook
Name Amel: #NAME?
Name amns: #REF!
Name amns2: #REF!
Name chimiev3: #REF!
Name lic_parc_se2: #REF!
Name LISTEM1: #REF!
Name LISTEM1EC: #REF!
Name LISTENR: #REF!
Name LISTEOUINON: #REF!
Name MATHS: #REF!
Name MYLISTE: #REF!
Name MYLISTEbis: [1]PLAGES!$A$1:$A$4

Sheet Sommaire formations EAD
A1: Formations en téléenseignement
A2: Modalités de contrôle des connaissances et des compétences
A3: Formations | B3: CODE DPI
A4: Portail 1 René Descartes | B4: 3SLD
A5: Portail 2 Marie Curie | B5: 3SLC
A6: Portail 3 Louis Pasteur | B6: 3SLP
A7: Licence Physique, chimie | B7: 3SPC
A8: Licence Informatique | B8: 3SIN
A9: Licence Mathématiques | B9: 3SMI
A10: Licence Plurisciences | B10: 3SPL
A11: Licence Sciences de la vie | B11: 3SSV
A12: Master Mathématiques et applications | B12: 5SMA
A13: Master Physique fondamentale et applications | B13: 5SPF

Sheet Portail 1 René Descartes
A1: Code | B1: Nature | C1: Nom | D1: Crédits | E1: Modalité d'examen: - ET si l’évaluation se fait au seul moyen d’un examen terminal organisé dans la période des examens ; - CC+ET si l’évaluation correspond à une combinaison entre examen terminal et contrôle continu (CCP); - CC si l’évaluation correspond à une combinaison de contrôle continu uniquement ; - ECI : si l’évaluation s'effectue en continu intégral pour l’ensemble du parcours avec au sans 2d session. Les parcours intégralement en ECI devront nous être signalés et serons recensés dans le sommaire. | F1: Descriptif: exemple: note CC non reportée en session 2, TP, CC1 - 1h ; 3CC… | G1: Nature des épreuves terminales : - Oral - Écrit – les épreuves sur ordinateur sont considérées comme un écrit - Écrit et oral – pour les mémoires, rapport… | H1: Nature spécifique de l'épreuve terminale: -sur ordinateur; - rapport avec soutenance (préciser si absence de soutenance); - QCM - multi-format. | I1: Durée de l'épreuve terminale Recommandation : - En L1 et L2 = 2h, - En L2 sur demande et dérogation = 3h, - En L3: * 2h jusqu’à 3 Ects, * 3h au-delà de 3 Ects, * Plus de 3h sur demande et dérogation. | J1: Règle de calcul de la note finale | K1: Modalité d'examen: - CT = évaluation au seul moyen d’un contrôle terminal Attention : Laisser vide en cas d'ECI sans seconde session | L1: Nature des épreuves: - écrit; - oral; - écrit et/ou oral. | M1: Nature spécifique de l'épreuve: - organisation globalisée de l’évaluation au sein d’un BCC - sur ordinateur; - oral suivant le nbre d'étudiants attendus (préciser) - rapport avec soutenance (préciser si absence de soutenance); - QCM | N1: Durée de l'épreuve terminale Recommandation : - En L1 et L2 = 2h, - En L2 sur demande et dérogation = 3h, - En L3: * 2h jusqu’à 3 Ects, * 3h au-delà de 3 Ects, * Plus de 3h sur demande et dérogation. | O1: Régle de calcul de la note finale en session 2
C2: Retour au sommaire | K2: Session 2
A3: 3SLD | B3: FRM | C3: Portail René Descartes : Informatique - Mathématiques - Mécanique - Physique | D3: 60
A4: PRSLD3C2 | B4: PT | C4: Portail René Descartes (I-M-Méca-P) enseignement à distance | D4: 60
A5: SLD1C1T | B5: AN | C5: L1 portail Descartes EAD | D5: 60
A6: SLD1SC1T | B6: SE | C6: Semestre 1 portail René Descartes EAD | D6: 30
A7: SLD1K04 | B7: BCC | C7: Définir et valoriser son parcours en sciences | D7: -
A8: SLD1U09 | B8: UE | C8: Méthodologie | D8: 3 | E8: CC+ET | F8: CC : QCM en ligne | G8: écrit | I8: 2h | J8: NF = Max (0,2 CC + 0,8 ET ; ET) | K8: ET | L8: écrit | M8: report de la note de CC de session 1 | N8: 2h | O8: NF = Max (0,2 CC + 0,8 ET ; ET)
A9: SLD1U10 | B9: UE | C9: Anglais 1 | D9: 1 | E9: CC | F9: CC : compte rendu et ateliers | G9: La participation aux ateliers est une composante de la validation finale | H9: Ne donnera pas lieu à une note mais une acquisition | I9: Ne donnera pas lieu à une note mais une acquisition | J9: NF = CC | K9: CC | M9: L'acquisition du semestre 1 sera reportée | O9: NF = CC
A10: SLD1U11 | B10: UE | C10: Science des données | D10: 2 | E10: CC+ET | F10: CC : devoir à rendre | G10: écrit | I10: 2h | J10: NF = Max (0,2 CC + 0,8 ET ; ET) | K10: ET | L10: écrit | M10: report de la note de CC de session 1 | N10: 2h | O10: NF = Max (0,2 CC + 0,8 ET ; ET)
A11: SLD1K05 | B11: BCC | C11: Maîtriser les outils nécessaires à sa spécialité | D11: -
A12: SLD1U12 | B12: UE | C12: Mathématiques générales | D12: 6 | E12: ET | G12: écrit | I12: 2h | J12: NF = ET | K12: ET | L12: écrit | N12: 2h | O12: NF = ET
A13: SLD1U13 | B13: UE | C13: Introduction à la science informatique | D13: 6 | E13: ET | G13: écrit | I13: 2h | J13: NF = ET | K13: ET | L13: écrit | N13: 2h | O13: NF = ET
A14: SLD1K06 | B14: BCC | C14: Appréhender le monde réel par le formalisme scientifique | D14: -
A15: SLD1U14 | B15: UE | C15: Études de fonctions et nombres complexes | D15: 6 | E15: ET | G15: écrit | I15: 2h | J15: NF = ET | K15: ET | L15: écrit | N15: 2h | O15: NF = ET
A16: SLD1U15 | B16: UE | C16: Forces et statique | D16: 3 | E16: ET | G16: écrit | I16: 2h | J16: NF = ET | K16: ET | L16: écrit | N16: 2h | O16: NF = ET
A17: SLD1U16 | B17: UE | C17: Phénomènes ondulatoires | D17: 3 | E17: CC+ET | G17: écrit | I17: 2h | J17: NF = Max (0,3 TP + 0,7 ET ; ET) | K17: ET | L17: écrit | M17: report de la note de TP de session 1 | N17: 2h | O17: NF = Max (0,3 TP + 0,7 ET ; ET)
A18: SLD2SC1T | B18: SE | C18: Semestre 2 portail René Descartes EAD | D18: 30
A19: SLD2K04 | B19: BCC | C19: Définir et valoriser son parcours en sciences | D19: -
A20: SLD2U17 | B20: UE | C20: Projet professionnel et personnel de l'étudiant 1 | D20: 3 | E20: CC | F20: CC1, CC2 : devoir à rendre pendant l'année O : oral | J20: NF = 0,3 CC1 + 0,3 CC2 + 0,4 O | K20: CC | M20: report des notes de CC1 et CC2 de session 1 | O20: NF = 0,3 CC1 + 0,3 CC2 + 0,4 O
A21: SLD2U18 | B21: UE | C21: Anglais 2 | D21: 3 | E21: CC+ET | G21: écrit | I21: 1h30 | J21: NF = Max (0,2 CC + 0,8 ET ; ET) | K21: ET | L21: écrit | M21: report de la note de CC de session 1 | N21: 1h30 | O21: NF = Max (0,2 CC + 0,8 ET ; ET)
A22: SLD2K05 | B22: BCC | C22: Maîtriser les outils nécessaires à sa spécialité | D22: -
A23: SLD2U20 | B23: UE | C23: Programmation | D23: 6 | E23: CC+ET | G23: écrit | I23: 2h | J23: NF = Max (0,2 CC + 0,8 ET ; ET) | K23: ET | L23: écrit | N23: 2h | O23: NF = ET
A24: SLD2U21 | B24: UE | C24: Arithmétique et raisonnement (mathématiques) | D24: 6 | E24: ET | G24: écrit | I24: 2h | J24: NF = ET | K24: ET | L24: écrit | N24: 2h | O24: NF = ET
A25: SLD2K06 | B25: BCC | C25: Appréhender le monde réel par le formalisme scientifique | D25: -
A26: SLD2U19 | B26: UE | C26: Suites, intégration et systèmes linéaires | D26: 6 | E26: ET | G26: écrit | I26: 2h | J26: NF = ET | K26: ET | L26: écrit | N26: 2h | O26: NF = ET
A27: SLD2X04 | B27: OP | C27: Options de choix de mention | D27: 6
A28: SLD2Y11 | B28: LI | C28: Menu de la mention Informatique | D28: 6
A29: SLD2U29 | B29: UE | C29: Fonctionnement des ordinateurs | D29: 6 | E29: ET | G29: écrit | I29: 2h | J29: NF = ET | K29: ET | L29: écrit | N29: 2h | O29: NF = ET
A30: SLD2Y12 | B30: LI | C30: Menu de la mention Mathématiques | D30: 6
A31: SLD2U23 | B31: UE | C31: Électricité | D31: 3 | E31: CC+ET | F31: CC : QCM en ligne | G31: écrit | I31: 2h | J31: NF = Max (0,1 CC + 0,2 TP + 0,7 ET ; ET) | K31: ET | L31: écrit | M31: report de la note de CC et de TP de session 1 | N31: 2h | O31: NF = Max (0,1 CC + 0,2 TP + 0,7 ET ; ET)
A32: SLD2U24 | B32: UE | C32: Mécanique du point | D32: 3 | E32: CC+ET | F32: CC : devoir à rendre pendant l'année | G32: écrit | I32: 2h | J32: NF = Max (0,2 CC + 0,8 ET ; ET) | K32: ET | L32: écrit | M32: report de la note de CC | N32: 2h | O32: NF = Max (0,2 CC + 0,8 ET ; ET)

Sheet Portail 2 Marie Curie
A1: Code | B1: Nature | C1: Nom | D1: Crédits | E1: Modalité d'examen: - ET si l’évaluation se fait au seul moyen d’un examen terminal organisé dans la période des examens ; - CC+ET si l’évaluation correspond à une combinaison entre examen terminal et contrôle continu (CCP); - CC si l’évaluation correspond à une combinaison de contrôle continu uniquement ; - ECI : si l’évaluation s'effectue en continu intégral pour l’ensemble du parcours avec au sans 2d session. Les parcours intégralement en ECI devront nous être signalés et serons recensés dans le sommaire. | F1: Descriptif: exemple: note CC non reportée en session 2, TP, CC1 - 1h ; 3CC… | G1: Nature des épreuves terminales : - Oral - Écrit – les épreuves sur ordinateur sont considérées comme un écrit - Écrit et oral – pour les mémoires, rapport… | H1: Nature spécifique de l'épreuve terminale: -sur ordinateur; - rapport avec soutenance (préciser si absence de soutenance); - QCM - multi-format. | I1: Durée de l'épreuve terminale Recommandation : - En L1 et L2 = 2h, - En L2 sur demande et dérogation = 3h, - En L3: * 2h jusqu’à 3 Ects, * 3h au-delà de 3 Ects, * Plus de 3h sur demande et dérogation. | J1: Règle de calcul de la note finale | K1: Modalité d'examen: - CT = évaluation au seul moyen d’un contrôle terminal Attention : Laisser vide en cas d'ECI sans seconde session | L1: Nature des épreuves: - écrit; - oral; - écrit et/ou oral. | M1: Nature spécifique de l'épreuve: - organisation globalisée de l’évaluation au sein d’un BCC - sur ordinateur; - oral suivant le nbre d'étudiants attendus (préciser) - rapport avec soutenance (préciser si absence de soutenance); - QCM | N1: Durée de l'épreuve terminale Recommandation : - En L1 et L2 = 2h, - En L2 sur demande et dérogation = 3h, - En L3: * 2h jusqu’à 3 Ects, * 3h au-delà de 3 Ects, * Plus de 3h sur demande et dérogation. | O1: Régle de calcul de la note finale en session 2
C2: Retour au sommaire | E2: Session 1 | K2: Session 2
A3: 3SLC | B3: FRM | C3: Portail Marie Curie : Chimie - Physique, chimie - Physique - Sciences pour l'ingénieur | D3: 60
A4: PRSLC3C2 | B4: PT | C4: Parcours portail Marie Curie enseignement à distance | D4: 60
A5: SLC1C1T | B5: AN | C5: L1 portail Marie Curie EAD | D5: 60
A6: SLC1SC1T | B6: SE | C6: Semestre 1 portail Marie Curie EAD | D6: 30
A7: SLC1K01 | B7: BCC | C7: Développement personnel et professionnel | D7: -
A8: SLC1U01 | B8: UE | C8: Méthodologie | D8: 3 | E8: CC | J8: NF = 0,3*CC1+0,3*TP+0,4*CC2 | K8: ET | L8: ecrit | M8: Report note CC | N8: 2h | O8: NF=0,5*ET+0,5*CC
A9: SLC1U02 | B9: UE | C9: Anglais 1 | D9: 1 | E9: ='Portail 1 René Descartes'!E9 -> CC | F9: ='Portail 1 René Descartes'!F9 -> CC : compte rendu et ateliers | G9: ='Portail 1 René Descartes'!G9 -> La participation aux ateliers est une composante de la validation finale | H9: ='Portail 1 René Descartes'!H9 -> Ne donnera pas lieu à une note mais une acquisition | I9: ='Portail 1 René Descartes'!I9 -> Ne donnera pas lieu à une note mais une acquisition | J9: ='Portail 1 René Descartes'!J9 -> NF = CC
A10: SLC1U03 | B10: UE | C10: Climat et grands défis énergétiques | D10: 2 | E10: CC | J10: NF = CC | K10: ET | L10: ecrit | N10: 2h | O10: ET
A11: SLC1K02 | B11: BCC | C11: Connaissances en sciences fondamentales | D11: -
A12: SLC1U04 | B12: UE | C12: Phénomènes ondulatoires | D12: 3 | E12: CC + ET | F12: note TP de Session1 reporté en S2 | G12: ecrit | I12: 2h | J12: NF = Max (0,8ET + 0,2TP) ; (0,7ET + 0,1CC + 0,2TP) | K12: ET | L12: ecrit | M12: Report note CC et TP | N12: 2h | O12: NF = Max (0,8ET + 0,2TP) ; (0,7ET + 0,1CC + 0,2TP)
A13: SLC1U05 | B13: UE | C13: Force, équilibre et mouvement | D13: 3 | E13: CC + ET | G13: ecrit | I13: 2h | J13: NF = Max (0.3*CC+0.7ET) ; (ET) | K13: ET | L13: ecrit | M13: Report note CC | N13: 2h | O13: NF = Max (ET ) ; ( 0.7ET+0.3CC)
A14: SLC1U06 | B14: UE | C14: Atomistique | D14: 3 | E14: CC + ET | F14: note de cc reportée en session 2 | G14: ecrit | I14: 2h | J14: NF = Max [0,2*CC+0,8ET, TE] | K14: ET | L14: ecrit | M14: Report note CC | N14: 2h | O14: NF = Max [0,2*CC+0,8ET, TE]
A15: SLC1U07 | B15: UE | C15: Édifices moléculaires 1 | D15: 3 | E15: CC + ET | F15: note de cc reportée en session 2 | G15: ecrit | I15: 2h | J15: NF = Max [0,2*CC+0,8ET, TE] | K15: ET | L15: ecrit | M15: Report note CC | N15: 2h | O15: NF = Max [0,2*CC+0,8ET, TE]
A16: SLC1K03 | B16: BCC | C16: Outils scientifiques connexes aux champs disciplinaires | D16: -
A17: SLC1U08 | B17: UE | C17: Mathématiques 1 | D17: 6 | E17: CC + ET | G17: ecrit | I17: 2h | J17: NF = 0,7ET + 0,3CC (CC1+CC2)/2, | K17: ET | L17: ecrit | M17: Report note CC | N17: 2h | O17: NF = 0,7ET + 0,3CC (CC1+CC2)/2
A18: SLC1U09 | B18: UE | C18: Mesure et outils numériques | D18: 6 | E18: CC + ET | F18: note TP de Session1 reporté en S2 | G18: ecrit | I18: 2h | J18: NF = 0,6*TP + 0,4*ET | K18: ET | L18: ecrit | M18: Report note CC | N18: 2h | O18: MAX(0,6 TP + 0,4 ET, ET)
A19: SLC2SC1T | B19: SE | C19: Semestre 2 portail Marie Curie EAD | D19: 30
A20: SLC2K04 | B20: BCC | C20: Développement personnel et professionnel | D20: -
A21: SLC2U01 | B21: UE | C21: Projet personnel et professionnel de l'étudiant 1 | D21: 3 | E21: CC | J21: NF = 0,6CC1 + 0,4CC2 et CC1= 0,5 D1+ 0,5*D2 | K21: CC | O21: 0,6*CC1+ O,4*CC2 avec CC1 = 0,5*D1 + 0,5*D2
A22: SLC2U02 | B22: UE | C22: Anglais 2 | D22: 3 | E22: CC + ET | G22: ecrit | I22: 1H30 | J22: NF = Max [0,2*CC+0,8ET, TE] | K22: ET | M22: Report note CC | N22: 1H30 | O22: NF = Max [0,2*CC+0,8ET, TE]
A23: SLC2K05 | B23: BCC | C23: Connaissances en sciences fondamentales | D23: -
A24: SLC2U03 | B24: UE | C24: Chimie des solutions | D24: 3 | E24: CC + ET | F24: note TP de Session1 reporté en S2 | G24: ecrit | I24: 2h | J24: NF = Max (0,8ET + 0,2TP) ; (0,6ET + 0,2CC + 0,2TP) | K24: ET | M24: Report note CC | N24: 2h | O24: NF= MAX [80%ET+20%TP; 60%ET+20%CC+20%TP)]
A25: SLC2U04 | B25: UE | C25: Thermodynamique pour chimie et physique, chimie | D25: 5 | E25: CC + ET | F25: note TP de Session1 reporté en S2 | G25: ecrit | I25: 2h | J25: NF = Max (0,8ET + 0,2TP) ; (0,6ET + 0,2CC + 0,2TP) | K25: ET | L25: ecrit | N25: 2h | O25: NF= MAX[80%ET+20%TP; 100%ET]
A26: SLC2U07 | B26: UE | C26: Optique | D26: 3 | E26: CC + ET | F26: note TP de Session1 reporté en S2 | G26: ecrit | I26: 2h | J26: NF = Max (0,8*ET+0,2*TP) ; (0,5*ET+0,3*CC+0,2*TP) | K26: ET | L26: ecrit | N26: 2h | O26: NF=MAX(ET;0,8ET+0,2TP)
A27: SLC2U08 | B27: UE | C27: Électrocinétique | D27: 4 | E27: CC + ET | F27: note TP de Session1 reporté en S2 | G27: ecrit | I27: 2h | J27: NF = Max (0,8*ET+0,2*TP) ; (0,5*ET+0,3*CC+0,2*TP) | K27: ET | L27: écrit | M27: Report note CC | N27: 2h | O27: NF = Max (0,8*ET+0,2*TP) ; (0,5*ET+0,3*CC+0,2*TP)
A28: SLC2K06 | B28: BCC | C28: Outils scientifiques connexes aux champs disciplinaires | D28: -
A29: SLC2U15 | B29: UE | C29: Mathématiques 2 | D29: 3 | E29: ET | G29: ecrit | I29: 2h | J29: NF = ET | K29: ET | L29: écrit | N29: 2h | O29: NF = ET
A30: SLC2U17 | B30: UE | C30: Outils formels pour Physique - Physique, chimie - SPI | D30: 3 | E30: CC + ET | F30: note TP de Session1 non reporté en S2 | G30: ecrit | I30: 2h | J30: NF = Max (0.3*CC+0.7ET) ; (ET) | K30: ET | L30: écrit | N30: 2h | O30: NF = ET
A31: SLC2U18 | B31: UE | C31: Approche expérimentale | D31: 3 | E31: CC + ET | F31: note TP de Session1 reporté en S2 | G31: ecrit | I31: 2h | J31: NF = 0,5 ET + 0,5 TP | K31: ET | L31: ecrit | N31: 2h | O31: NF = 0,5 ET + 0,5 TP

Sheet Portail 3 Louis Pasteur
A1: Code | B1: Nature | C1: Nom | D1: Crédits | E1: Modalité d'examen: - ET si l’évaluation se fait au seul moyen d’un examen terminal organisé dans la période des examens ; - CC+ET si l’évaluation correspond à une combinaison entre examen terminal et contrôle continu (CCP); - CC si l’évaluation correspond à une combinaison de contrôle continu uniquement ; - ECI : si l’évaluation s'effectue en continu intégral pour l’ensemble du parcours avec au sans 2d session. Les parcours intégralement en ECI devront nous être signalés et serons recensés dans le sommaire. | F1: Descriptif: exemple: note CC non reportée en session 2, TP, CC1 - 1h ; 3CC… | G1: Nature des épreuves terminales : - Oral - Écrit – les épreuves sur ordinateur sont considérées comme un écrit - Écrit et oral – pour les mémoires, rapport… | H1: Nature spécifique de l'épreuve terminale: -sur ordinateur; - rapport avec soutenance (préciser si absence de soutenance); - QCM - multi-format. | I1: Durée de l'épreuve terminale Recommandation : - En L1 et L2 = 2h, - En L2 sur demande et dérogation = 3h, - En L3: * 2h jusqu’à 3 Ects, * 3h au-delà de 3 Ects, * Plus de 3h sur demande et dérogation. | J1: Règle de calcul de la note finale | K1: Modalité d'examen: - CT = évaluation au seul moyen d’un contrôle terminal Attention : Laisser vide en cas d'ECI sans seconde session | L1: Nature des épreuves: - écrit; - oral; - écrit et/ou oral. | M1: Nature spécifique de l'épreuve: - organisation globalisée de l’évaluation au sein d’un BCC - sur ordinateur; - oral suivant le nbre d'étudiants attendus (préciser) - rapport avec soutenance (préciser si absence de soutenance); - QCM | N1: Durée de l'épreuve terminale Recommandation : - En L1 et L2 = 2h, - En L2 sur demande et dérogation = 3h, - En L3: * 2h jusqu’à 3 Ects, * 3h au-delà de 3 Ects, * Plus de 3h sur demande et dérogation. | O1: Régle de calcul de la note finale en session 2
C2: Retour au sommaire | K2: Session 2
A3: 3SLP | B3: FRM | C3: Portail Louis Pasteur : Chimie - Sciences sanitaires et sociales - Sciences de la vie - Sciences de la vie et de la Terre | D3: 60
A4: PRSLP3C2 | B4: PT | C4: Portail Louis Pasteur (C-SSS-SV-SVT) enseignement à distance | D4: 60
A5: SLP1C1T | B5: AN | C5: L1 portail Louis Pasteur EAD | D5: 60
A6: SLP1SC1T | B6: SE | C6: Semestre 1 portail Louis Pasteur EAD | D6: 30
A7: SLP1K04 | B7: BCC | C7: Les notions fondamentales de la chimie, SV, SVT et SSS | D7: -
A8: SLP1U09 | B8: UE | C8: Terre vivante | D8: 6 | E8: CC+ET | G8: écrit | I8: 2h | J8: NF = 0,3*CC + 0,7*ET | L8: écrit | N8: 2h | O8: NF = max(0,3*CC + 0,7*ET; ET)
A9: SLP1U10 | B9: UE | C9: Biologie | D9: 6 | E9: CC+ET | F9: CC= QCM biochimie | G9: écrit | I9: 2h | J9: NF = 0,05*CC + 0,95*ET | K9: ET | L9: écrit | N9: 2h | O9: NF = ET
A10: SLP1U11 | B10: UE | C10: Chimie | D10: 5 | E10: CC+ET | G10: écrit | I10: 2h | J10: NF = Max (0,2*CC + 0,8*ET; ET) | K10: ET | L10: écrit | M10: reprise des notes de CC | N10: 2h | O10: NF = Max (0,2CC + 0,8ET) ; (ET)
A11: SLP1K05 | B11: BCC | C11: Outils et pratiques pour générer et analyser des données | D11: -
A12: SLP1U12 | B12: UE | C12: Outils mathématiques | D12: 4 | E12: ET | G12: écrit | I12: 2h | J12: NF = ET | L12: écrit | N12: 2h | O12: NF = ET
A13: SLP1U13 | B13: UE | C13: Méthodes et outils pour le champ disciplinaire | D13: 3 | E13: CC | F13: CC = TP et QCM | J13: NF = 1/3*CC1 + 1/3*CC2 + 1/3*CC3 | K13: ET | L13: écrit | M13: reprise des notes de CC | N13: 2h | O13: NF = 1/3 max(CC1; ET) + 1/3 max(CC2; ET) + 1/3 max (CC3; ET)
A14: SLP113A | B14: EC | C14: Méthodes et outils pour le champ disciplinaire (seuil 35) | D14: 3
A15: SLP113B | B15: EC | C15: Méthodes et outils pour le champ disciplinaire (seuil 70) | D15: 3
A16: SLP1K06 | B16: BCC | C16: Valoriser et maturer son parcours en sciences | D16: -
A17: SLP1U14 | B17: UE | C17: Grands enjeux | D17: 2 | E17: ET | G17: écrit | H17: QCM | I17: 2h | J17: NF = ET | K17: ET | L17: écrit | N17: 2h | O17: NF = ET
A18: SLP1U15 | B18: UE | C18: Méthodologie du travail universitaire | D18: 3 | E18: CC+ET | F18: CC et TP; note de TP reportée en session 2 | G18: écrit | I18: 2h | J18: NF = 0,2*CC + 0,3*TP + 0,5*ET | K18: ET | L18: écrit | M18: reprise des notes de CC | N18: 2h | O18: NF = max (0,3*TP + 0,7*ET ; ET)
A19: SLP1U16 | B19: UE | C19: Anglais 1 | D19: 1 | E19: ='Portail 1 René Descartes'!E9 -> CC | F19: ='Portail 1 René Descartes'!F9 -> CC : compte rendu et ateliers | G19: ='Portail 1 René Descartes'!G9 -> La participation aux ateliers est une composante de la validation finale | H19: ='Portail 1 René Descartes'!H9 -> Ne donnera pas lieu à une note mais une acquisition | I19: ='Portail 1 René Descartes'!I9 -> Ne donnera pas lieu à une note mais une acquisition | J19: ='Portail 1 René Descartes'!J9 -> NF = CC | K19: ='Portail 1 René Descartes'!K9 -> CC | L19: ='Portail 1 René Descartes'!L9 -> 0 | ... O19: ='Portail 1 René Descartes'!O9 -> NF = CC
A20: SLP2SC1T | B20: SE | C20: Semestre 2 portail Louis Pasteur EAD | D20: 30
A21: SLP2K04 | B21: BCC | C21: Les notions fondamentales de la chimie, SV, SVT et SSS | D21: -
A22: SLP2U24 | B22: UE | C22: Biologie cellulaire | D22: 4 | E22: CC+ET | G22: écrit | I22: 2h | J22: NF = 0,3*CC + 0,7*ET | L22: écrit | N22: 2h | O22: NF = max(0,3*CC + 0,7*ET; ET)
A23: SLP2U25 | B23: UE | C23: Physiologie | D23: 4 | E23: ET | G23: écrit | I23: 2h | J23: NF = ET | K23: ET | L23: écrit | N23: 2h | O23: NF = ET
A24: SLP2U26 | B24: UE | C24: Biochimie et biologie moléculaire | D24: 8
A25: SLP226A | B25: EC | C25: Biochimie | D25: - | E25: CC+ET | F25: CC=devoir maison | G25: écrit | I25: 2h | J25: NF = 0,25*CC + 0,75*ET | K25: ET | L25: écrit | N25: 2h | O25: NF = ET
A26: SLP226B | B26: EC | C26: Biologie moléculaire | D26: - | E26: CC+ET | F26: CC= devoirs maison | G26: écrit | I26: 2h | J26: NF = 0,1*CC + 0,9*ET | L26: écrit | N26: 2h | O26: NF = 0,1*CC + 0,9*ET
A27: SLP2U28 | B27: UE | C27: Pratiques expérimentales en biologie | D27: 2 | E27: CC | F27: CC1 = TP, CC2= QCM - note de cc reportée en session 2 | H27: une partie QCM | J27: NF = 0,8*CC1 + 0,2*CC2 | K27: CC + ET | L27: Ecrit et Oral | N27: 2h | O27: NF = 0,4*CC + 0,6*ET
A28: SLP2K05 | B28: BCC | C28: Outils et pratiques pour générer et analyser des données | D28: -
A29: SLP2U29 | B29: UE | C29: Physique | D29: 3 | E29: CC+ET | F29: CC = (devoirs maisons, CR de TP) | G29: écrit | I29: 2h | J29: NF = Max (0,25* CC + 0,75 ET; ET) | K29: ET | L29: écrit | M29: reprise des notes de CC | N29: 2h | O29: NF = Max (0,25* CC + 0,75 ET; ET)
A30: SLP2U30 | B30: UE | C30: Thermochimie | D30: 3 | E30: CC+ET | F30: CC= devoirs + TP | G30: écrit | I30: 2h | J30: NF = Max (0,25CC + 0,2TP + 0,55ET); (0,2TP + 0,8ET) | K30: ET | L30: écrit | M30: reprise des notes de CC | N30: 2h | O30: NF = Max (0,2CC + 0,8ET) ; (ET)
A31: SLP2K06 | B31: BCC | C31: Valoriser et maturer son parcours en sciences | D31: -
A32: SLP2U31 | B32: UE | C32: Anglais 2 | D32: 3 | E32: ET | G32: écrit | I32: 1h30 | J32: NF = ET | K32: ET | L32: écrit | N32: 1h30 | O32: NF = ET
A33: SLP2U32 | B33: UE | C33: Projet personnel et professionnel de l'étudiant 1 | D33: 3 | E33: CC | F33: note CC reportée en session 2 | J33: NF = 0,6CC + 0,4O | K33: CC | O33: NF=0,6*CC+0,4*O

Sheet Licence Informatique
A1: Code | B1: Nature | C1: Nom | D1: Crédits | E1: Modalité d'examen: - ET si l’évaluation se fait au seul moyen d’un examen terminal organisé dans la période des examens ; - CC+ET si l’évaluation correspond à une combinaison entre examen terminal et contrôle continu (CCP); - CC si l’évaluation correspond à une combinaison de contrôle continu uniquement ; - ECI : si l’évaluation s'effectue en continu intégral pour l’ensemble du parcours avec au sans 2d session. Les parcours intégralement en ECI devront nous être signalés et serons recensés dans le sommaire. | F1: Descriptif: exemple: note CC non reportée en session 2, TP, CC1 - 1h ; 3CC… | G1: Nature des épreuves terminales : - Oral - Écrit – les épreuves sur ordinateur sont considérées comme un écrit - Écrit et oral – pour les mémoires, rapport… | H1: Nature spécifique de l'épreuve terminale: -sur ordinateur; - rapport avec soutenance (préciser si absence de soutenance); - QCM - multi-format. | I1: Durée de l'épreuve terminale Recommandation : - En L1 et L2 = 2h, - En L2 sur demande et dérogation = 3h, - En L3: * 2h jusqu’à 3 Ects, * 3h au-delà de 3 Ects, * Plus de 3h sur demande et dérogation. | J1: Règle de calcul de la note finale | K1: Modalité d'examen: - CT = évaluation au seul moyen d’un contrôle terminal Attention : Laisser vide en cas d'ECI sans seconde session | L1: Nature des épreuves: - écrit; - oral; - écrit et/ou oral. | M1: Nature spécifique de l'épreuve: - organisation globalisée de l’évaluation au sein d’un BCC - sur ordinateur; - oral suivant le nbre d'étudiants attendus (préciser) - rapport avec soutenance (préciser si absence de soutenance); - QCM | N1: Durée de l'épreuve terminale Recommandation : - En L1 et L2 = 2h, - En L2 sur demande et dérogation = 3h, - En L3: * 2h jusqu’à 3 Ects, * 3h au-delà de 3 Ects, * Plus de 3h sur demande et dérogation. | O1: Régle de calcul de la note finale en session 2
C2: Retour au sommaire
A3: 3SIN | B3: FRM | C3: Licence Informatique | D3: 120
A4: PRSIN3C3 | B4: PT | C4: Parcours Informatique : Mathématiques-informatique enseignement à distance | D4: 120
A5: SIN2C2T | B5: AN | C5: L2 Informatique : Mathématiques-informatique EAD | D5: 60
A6: SIN3SC2T | B6: SE | C6: Semestre 3 Informatique : Mathématiques-informatique EAD | D6: 30
A7: SIN3K07 | B7: BCC | C7: Analyser des problèmes et trouver des solutions efficaces | D7: -
A8: SIN3U18 | B8: UE | C8: Automates et langages formels | D8: 6 | E8: ET | F8: 0 | G8: Écrit | I8: 2h | J8: NF = ET | K8: ET | L8: Écrit | N8: 2h | O8: NF = ET
A9: SMI3U11 | B9: UE | C9: Suites et fonctions d'une variable réelle | D9: 9 | E9: ET | F9: ='Licence Mathématiques'!F14 -> 0 | G9: Écrit | H9: ='Licence Mathématiques'!H14 -> 0 | I9: ='Licence Mathématiques'!I14 -> 3h | J9: NF = ET | K9: ='Licence Mathématiques'!K14 -> ET | L9: Écrit | M9: ='Licence Mathématiques'!M14 -> 0 | N9: ='Licence Mathématiques'!N14 -> 3h | O9: ='Licence Mathématiques'!O14 -> NF = ET
A10: SIN3K08 | B10: BCC | C10: Exploiter des données et implémenter des solutions | D10: -
A11: SIN3U19 | B11: UE | C11: Programmation avancée en Java | D11: 6 | E11: ET | F11: 0 | G11: Écrit | I11: 2h | J11: NF = Max (ET; 0.8*ET + 0.2*CC) | K11: ET | L11: Écrit | N11: 2h | O11: NF = Max (ET) ; (0.8ET + 0.2CC)
A12: SMI3U10 | B12: UE | C12: Polynômes | D12: 3 | E12: ET | F12: ='Licence Mathématiques'!F12 -> 0 | G12: Écrit | H12: ='Licence Mathématiques'!H12 -> 0 | I12: ='Licence Mathématiques'!I12 -> 2h | J12: NF = ET | K12: ='Licence Mathématiques'!K12 -> ET | L12: Écrit | M12: ='Licence Mathématiques'!M12 -> 0 | N12: ='Licence Mathématiques'!N12 -> 2h | O12: ='Licence Mathématiques'!O12 -> NF = ET
A13: SIN3K09 | B13: BCC | C13: Valoriser et approfondir son parcours | D13: -
A14: SIN3U16 | B14: UE | C14: Anglais 3 | D14: 3 | E14: ET | F14: 0 | G14: Écrit | I14: 1h30 | J14: NF = ET | K14: ET | L14: Écrit | N14: 1h30 | O14: NF = ET
A15: SIN3U17 | B15: UE | C15: Projet personnel et professionnel de l'étudiant 2 | D15: 3 | E15: CC | F15: Note CC reportée en session 2 | G15: Ecrit + Oral | J15: NF= 0,4*CC1+0,6*CC2 | K15: ET | L15: Oral | M15: CC (notes reportées de Session1 ) | O15: NF=0,4*CC1+0,6*CC2
A16: SIN4SC2T | B16: SE | C16: Semestre 4 Informatique : Mathématiques-informatique EAD | D16: 30
A17: SIN4K07 | B17: BCC | C17: Analyser des problèmes et trouver des solutions efficaces | D17: -
A18: SIN4U33 | B18: UE | C18: Algorithmique 1 | D18: 6 | E18: ET | F18: 0 | G18: Écrit | I18: 2h | J18: NF = Max (0,15*CC1 + 0,15*CC2 + 0,7*ET; ET) | K18: ET | L18: Écrit | N18: 2h | O18: NF = Max (0,15CC1 + 0,15CC2 + 0,7ET) ; (ET)
A19: SMI4U19 | B19: UE | C19: Intégration et séries numériques | D19: 6 | E19: ET | F19: ='Licence Mathématiques'!F26 -> 0 | G19: Écrit | H19: ='Licence Mathématiques'!H26 -> 0 | I19: ='Licence Mathématiques'!I26 -> 2h | J19: NF = ET | K19: ='Licence Mathématiques'!K26 -> ET | L19: Écrit | M19: ='Licence Mathématiques'!M26 -> 0 | N19: ='Licence Mathématiques'!N26 -> 2h | O19: ='Licence Mathématiques'!O26 -> NF = ET
A20: SIN4K08 | B20: BCC | C20: Exploiter des données et implémenter des solutions | D20: -
A21: SIN4U34 | B21: UE | C21: Systèmes d’exploitation | D21: 3 | E21: ET | G21: Écrit | I21: 2h | J21: NF = Max (ET; 0.8*ET + 0.2*CC) | K21: ET | L21: Écrit | N21: 2h | O21: NF = Max (ET) ; (0.8ET + 0.2CC)
A22: SIN4U35 | B22: UE | C22: Bases de données | D22: 3 | E22: ET | F22: 0 | G22: Écrit | I22: 2h | J22: NF = ET | K22: ET | L22: Écrit | N22: 2h | O22: NF = ET
A23: SMI4U18 | B23: UE | C23: Probabilités | D23: 6 | E23: ET | F23: ='Licence Mathématiques'!F24 -> 0 | G23: Écrit | H23: ='Licence Mathématiques'!H24 -> 0 | I23: ='Licence Mathématiques'!I24 -> 2h | J23: NF = ET | K23: ='Licence Mathématiques'!K24 -> ET | L23: Écrit | M23: ='Licence Mathématiques'!M24 -> 0 | N23: ='Licence Mathématiques'!N24 -> 2h | O23: ='Licence Mathématiques'!O24 -> NF = ET
A24: SIN4K09 | B24: BCC | C24: Valoriser et approfondir son parcours | D24: -
A25: SIN4U29 | B25: UE | C25: Projet informatique | D25: 3 | E25: ET | F25: O=oral, M=manuscrit et DE=Note de travail | G25: Ecrit + Oral | J25: NF = 0,4 * O + 0,3 * M + 0,3 * DE
A26: SIN4U30 | B26: UE | C26: Anglais 4 | D26: 3 | E26: ET | G26: Écrit | I26: 1h30 | J26: NF = ET | K26: ET | L26: Écrit | N26: 1h30 | O26: NF = ET
A27: SIN3C2T | B27: AN | C27: L3 Informatique : Mathématiques-informatique EAD | D27: 60
A28: SIN5SC2T | B28: SE | C28: Semestre 5 Informatique : Mathématiques-informatique EAD | D28: 30
A29: SIN5K07 | B29: BCC | C29: Analyser des problèmes et trouver des solutions efficaces | D29: -
A30: SIN5U32 | B30: UE | C30: Algorithmique 2 | D30: 6 | E30: ET | G30: Écrit | I30: 2h | J30: NF = ET | K30: ET | L30: Écrit | N30: 2h | O30: NF = ET
A31: SIN5U33 | B31: UE | C31: Logique | D31: 6 | E31: ET | G31: Écrit | I31: 2h | J31: NF = ET | K31: ET | L31: Écrit | N31: 2h | O31: NF = ET
A32: SIN5K08 | B32: BCC | C32: Exploiter des données et implémenter des solutions | D32: -
A33: SIN5U34 | B33: UE | C33: Initiation au génie logiciel | D33: 3 | E33: ET | G33: Écrit | I33: 2h | J33: NF = ET | K33: ET | L33: Écrit | N33: 2h | O33: NF = ET
A34: SMI3U35 | B34: UE | C34: Algèbre linéaire 1 | D34: 9 | E34: CC + ET | F34: ='Licence Mathématiques'!F11 -> 0 | G34: Écrit | H34: ='Licence Mathématiques'!H11 -> 0 | I34: ='Licence Mathématiques'!I11 -> 3h | J34: NF = ET | K34: ='Licence Mathématiques'!K11 -> ET | L34: Écrit | M34: ='Licence Mathématiques'!M11 -> 0 | N34: ='Licence Mathématiques'!N11 -> 3h | O34: ='Licence Mathématiques'!O11 -> NF = ET
A35: SIN5K09 | B35: BCC | C35: Valoriser et approfondir son parcours | D35: -
A36: SIN5U29 | B36: UE | C36: Projet personnel et professionnel de l'étudiant 3 | D36: 3 | E36: CC | F36: Note CC reportée en session 2 | G36: Ecrit + Oral | J36: NF = 0,6*CC + O,4*O | K36: ET | L36: Oral | M36: CC (reportée de Session1) | O36: NF = 0,6*CC + O,4*O (O= oral)
A37: SIN5U30 | B37: UE | C37: Anglais 5 | D37: 3 | E37: ET | G37: Écrit | I37: 1h30 | J37: NF = ET | K37: ET | L37: Écrit | N37: 1h30 | O37: NF = ET
A38: SIN6SC2T | B38: SE | C38: Semestre 6 Informatique : Mathématiques-informatique EAD | D38: 30
A39: SIN6K07 | B39: BCC | C39: Analyser des problèmes et trouver des solutions efficaces | D39: -
A40: SIN6U45 | B40: UE | C40: Calculabilité | D40: 3 | E40: ET | F40: 0 | G40: Écrit | I40: 2h | J40: NF = ET | K40: ET | L40: Écrit | M40: CC (reporté de session 1) | N40: 2h | O40: NF = ET
...

Sheet Licence  Mathématiques
A1: Code | B1: Nature | C1: Nom | D1: Crédits | E1: Modalité d'examen: - ET si l’évaluation se fait au seul moyen d’un examen terminal organisé dans la période des examens ; - CC+ET si l’évaluation correspond à une combinaison entre examen terminal et contrôle continu (CCP); - CC si l’évaluation correspond à une combinaison de contrôle continu uniquement ; - ECI : si l’évaluation s'effectue en continu intégral pour l’ensemble du parcours avec au sans 2d session. Les parcours intégralement en ECI devront nous être signalés et serons recensés dans le sommaire. | F1: Descriptif: exemple: note CC non reportée en session 2, TP, CC1 - 1h ; 3CC… | G1: Nature des épreuves terminales : - Oral - Écrit – les épreuves sur ordinateur sont considérées comme un écrit - Écrit et oral – pour les mémoires, rapport… | H1: Nature spécifique de l'épreuve terminale: -sur ordinateur; - rapport avec soutenance (préciser si absence de soutenance); - QCM - multi-format. | I1: Durée de l'épreuve terminale Recommandation : - En L1 et L2 = 2h, - En L2 sur demande et dérogation = 3h, - En L3: * 2h jusqu’à 3 Ects, * 3h au-delà de 3 Ects, * Plus de 3h sur demande et dérogation. | J1: Règle de calcul de la note finale | K1: Modalité d'examen: - CT = évaluation au seul moyen d’un contrôle terminal Attention : Laisser vide en cas d'ECI sans seconde session | L1: Nature des épreuves: - écrit; - oral; - écrit et/ou oral. | M1: Nature spécifique de l'épreuve: - organisation globalisée de l’évaluation au sein d’un BCC - sur ordinateur; - oral suivant le nbre d'étudiants attendus (préciser) - rapport avec soutenance (préciser si absence de soutenance); - QCM | N1: Durée de l'épreuve terminale Recommandation : - En L1 et L2 = 2h, - En L2 sur demande et dérogation = 3h, - En L3: * 2h jusqu’à 3 Ects, * 3h au-delà de 3 Ects, * Plus de 3h sur demande et dérogation. | O1: Régle de calcul de la note finale en session 2
C2: Retour au sommaire | K2: Session 2
A3: 3SMI | B3: FRM | C3: Licence Mathématiques | D3: 120
A4: PRSMI3C3 | B4: PT | C4: Parcours Mathématiques : Mathématiques enseignement à distance | D4: 120
A5: SMI2C3 | B5: AN | C5: L2 Mathématiques : Mathématiques EAD | D5: 60
A6: SMI3SC3 | B6: SE | C6: Semestre 3 Mathématiques : Mathématiques EAD | D6: 30
A7: SMI3K01 | B7: BCC | C7: Valoriser et approfondir son parcours | D7: -
A8: SMI3U07 | B8: UE | C8: Anglais 3 | D8: 3 | E8: ET | G8: Ecrit | I8: 1h30 | J8: NF = ET | K8: ET | L8: Ecrit | N8: 1h30 | O8: NF = ET
A9: SMI3U08 | B9: UE | C9: Épreuve intégrative L2 | D9: 3 | E9: ET | G9: Ecrit | I9: 2h | J9: NF = ET | K9: ET | L9: Ecrit | N9: 2h | O9: NF = ET
A10: SMI3K02 | B10: BCC | C10: Maîtriser les concepts de l'algèbre et des probabilités | D10: -
A11: SMI3U09 | B11: UE | C11: Algèbre linéaire 1 | D11: 9 | E11: ET | G11: Ecrit | I11: 3h | J11: NF = ET | K11: ET | L11: Ecrit | N11: 3h | O11: NF = ET
A12: SMI3U10 | B12: UE | C12: Polynômes | D12: 3 | E12: ET | G12: Ecrit | I12: 2h | J12: NF = ET | K12: ET | L12: Ecrit | N12: 2h | O12: NF = ET
A13: SMI3K03 | B13: BCC | C13: Maîtriser la notion de limite et la programmation | D13: -
A14: SMI3U11 | B14: UE | C14: Suites et fonctions d'une variable réelle | D14: 9 | E14: ET | G14: Ecrit | I14: 3h | J14: NF = ET | K14: ET | L14: Ecrit | N14: 3h | O14: NF = ET
A15: SMI3U12 | B15: UE | C15: Algorithmique et programmation 1 | D15: 3 | E15: ET | G15: Ecrit | I15: 2h | J15: NF = ET | K15: ET | L15: Ecrit | N15: 2h | O15: NF = ET
A16: SMI4SC3 | B16: SE | C16: Semestre 4 Mathématiques : Mathématiques EAD | D16: 30
A17: SMI4K01 | B17: BCC | C17: Valoriser et approfondir son parcours | D17: -
A18: SMI4U09 | B18: UE | C18: Anglais 4 | D18: 3 | E18: ET | G18: Ecrit | I18: 1h30 | J18: NF = ET | K18: ET | L18: Ecrit | N18: 1h30 | O18: NF = ET
A19: SMI4X02 | B19: OP | C19: Option projet professionnel 1 | D19: 3
A20: RPRODU1 | B20: UE | C20: ProMEEF1: Enseigner, Eduquer, Former : des métiers complexes S4 | D20: 3
A21: SMI4U15 | B21: UE | C21: Projet personnel et professionnel de l'étudiant 2 | D21: 3 | E21: CC | F21: Note CC reportée en session 2 | J21: NF= 0,4*CC1+0,6*CC2 | K21: ET | L21: Oral | M21: CC (notes reportées de Session1 ) | O21: NF=0,4*CC1+0,6*CC2
A22: SMI4K02 | B22: BCC | C22: Maîtriser les concepts de l'algèbre et des probabilités | D22: -
A23: SMI4U17 | B23: UE | C23: Algèbre linéaire 2 | D23: 9 | E23: ET | G23: Ecrit | I23: 3h | J23: NF = ET | K23: ET | L23: Ecrit | N23: 3h | O23: NF = ET
A24: SMI4U18 | B24: UE | C24: Probabilités | D24: 6 | E24: ET | G24: Ecrit | I24: 2h | J24: NF = ET | K24: ET | L24: Ecrit | N24: 2h | O24: NF = ET
A25: SMI4K03 | B25: BCC | C25: Maîtriser la notion de limite et la programmation | D25: -
A26: SMI4U19 | B26: UE | C26: Intégration et séries numériques | D26: 6 | E26: ET | G26: Ecrit | I26: 2h | J26: NF = ET | K26: ET | L26: Ecrit | N26: 2h | O26: NF = ET
A27: SMI4X03 | B27: OP | C27: Option de mathématiques du semestre 4 | D27: 3
A28: SMI4U20 | B28: UE | C28: Fondements des mathématiques | D28: 3 | E28: ET | G28: Ecrit | I28: 2h | J28: NF = ET | K28: ET | L28: Ecrit | N28: 2h | O28: NF = ET
A29: SMI4U21 | B29: UE | C29: Modélisation | D29: 3 | E29: CC+ET | G29: Ecrit | I29: 2h | J29: NF = 0.6*ET + 0.4*CC | K29: ET | L29: Ecrit | N29: 2h | O29: NF = 0.6*ET+0.4*CC
A30: SMI3C3 | B30: AN | C30: L3 Mathématiques : Mathématiques EAD | D30: 60
A31: SMI5SC3 | B31: SE | C31: Semestre 5 Mathématiques : Mathématiques EAD | D31: 30
A32: SMI5K07 | B32: BCC | C32: Valoriser et approfondir son parcours | D32: -
A33: SMI5U12 | B33: UE | C33: Anglais 5 | D33: 3 | E33: ='Licence Sciences de la vie'!E43 -> ET | F33: ='Licence Sciences de la vie'!F43 -> 0 | G33: ='Licence Sciences de la vie'!G43 -> Ecrit | H33: ='Licence Sciences de la vie'!H43 -> 0 | I33: ='Licence Sciences de la vie'!I43 -> 1h30 | J33: NF = ET | K33: ='Licence Sciences de la vie'!K43 -> ET | L33: ='Licence Sciences de la vie'!L43 -> Ecrit | M33: ='Licence Sciences de la vie'!M43 -> 0 | N33: ='Licence Sciences de la vie'!N43 -> 1h30 | O33: ='Licence Sciences de la vie'!O43 -> NF = ET
A34: SMI5U13 | B34: UE | C34: Projet personnel et professionnel de l'étudiant 3 | D34: 3 | E34: ='Licence Sciences de la vie'!E44 -> CC | F34: ='Licence Sciences de la vie'!F44 -> Note CC reportée en session 2 | G34: ='Licence Sciences de la vie'!G44 -> 0 | H34: ='Licence Sciences de la vie'!H44 -> 0 | I34: ='Licence Sciences de la vie'!I44 -> 0 | J34: ='Licence Sciences de la vie'!J44 -> NF = 0,6*CC + O,4*O | K34: ='Licence Sciences de la vie'!K44 -> ET | L34: ='Licence Sciences de la vie'!L44 -> Oral | ... O34: ='Licence Sciences de la vie'!O44 -> NF = 0,6*CC + O,4*O (O= oral)
A35: SMI5K08 | B35: BCC | C35: Maîtriser les concepts de l'algèbre et des probabilités | D35: -
A36: SMI5U14 | B36: UE | C36: Groupes | D36: 3 | E36: ET | G36: Ecrit | I36: 2h | J36: NF = ET | K36: ET | L36: Ecrit | N36: 2h | O36: NF = Max(ET; 0.8*ET+0.2*CC)
A37: SMI5U16 | B37: UE | C37: Espaces euclidiens et géométrie | D37: 6 | E37: ET | G37: Ecrit | I37: 2h | J37: NF = ET | K37: ET | L37: Ecrit | N37: 2h | O37: NF = Max(ET; 0.8*ET+0.2*CC)
A38: SMI5U24 | B38: UE | C38: Épreuve intégrative du semestre 5 | D38: 3 | E38: ET | G38: Ecrit | I38: 2h | J38: NF = ET | K38: ET | L38: Ecrit | N38: 3h | O38: NF = ET
A39: SMI5K09 | B39: BCC | C39: Maîtriser la notion de limite et la programmation | D39: -
A40: SMI5U17 | B40: UE | C40: Algorithmique et programmation 2 | D40: 3 | E40: ET | G40: Ecrit | I40: 2h | J40: NF = ET | K40: ET | L40: Ecrit | N40: 2h | O40: NF = Max(ET; 0.8*ET+0.2*CC)
...

Sheet Licence Plurisciences
A1: Code | B1: Nature | C1: Nom | D1: Crédits | E1: Modalité d'examen: - ET si l’évaluation se fait au seul moyen d’un examen terminal organisé dans la période des examens ; - CC+ET si l’évaluation correspond à une combinaison entre examen terminal et contrôle continu (CCP); - CC si l’évaluation correspond à une combinaison de contrôle continu uniquement ; - ECI : si l’évaluation s'effectue en continu intégral pour l’ensemble du parcours avec au sans 2d session. Les parcours intégralement en ECI devront nous être signalés et serons recensés dans le sommaire. | F1: Descriptif: exemple: note CC non reportée en session 2, TP, CC1 - 1h ; 3CC… | G1: Nature des épreuves terminales : - Oral - Écrit – les épreuves sur ordinateur sont considérées comme un écrit - Écrit et oral – pour les mémoires, rapport… | H1: Nature spécifique de l'épreuve terminale: -sur ordinateur; - rapport avec soutenance (préciser si absence de soutenance); - QCM - multi-format. | I1: Durée de l'épreuve terminale Recommandation : - En L1 et L2 = 2h, - En L2 sur demande et dérogation = 3h, - En L3: * 2h jusqu’à 3 Ects, * 3h au-delà de 3 Ects, * Plus de 3h sur demande et dérogation. | J1: Règle de calcul de la note finale | K1: Modalité d'examen: - CT = évaluation au seul moyen d’un contrôle terminal Attention : Laisser vide en cas d'ECI sans seconde session | L1: Nature des épreuves: - écrit; - oral; - écrit et/ou oral. | M1: Nature spécifique de l'épreuve: - organisation globalisée de l’évaluation au sein d’un BCC - sur ordinateur; - oral suivant le nbre d'étudiants attendus (préciser) - rapport avec soutenance (préciser si absence de soutenance); - QCM | N1: Durée de l'épreuve terminale Recommandation : - En L1 et L2 = 2h, - En L2 sur demande et dérogation = 3h, - En L3: * 2h jusqu’à 3 Ects, * 3h au-delà de 3 Ects, * Plus de 3h sur demande et dérogation. | O1: Régle de calcul de la note finale en session 2
C2: Retour au sommaire
B3: FRM | C3: Licence Plurisciences | D3: 180
B4: PT | C4: Parcours Plurisciences enseignement à distance | D4: 60
C5: L3 Plurisciences EAD | D5: 60
C6: Semestre 5 Plurisciences EAD | D6: 30
A7: SPL5K05 | B7: BCC | C7: Expression, communication et positionnement professionnel | D7: -
A8: SPL5U27 | B8: UE | C8: Anglais 5 et diffusion scientifique | D8: 3 | E8: CC + ET | F8: notes de CC anglais et TICE reportée en session 2 | G8: Ecrit et oral | H8: rédaction d'un manuscrit avec soutenance orale | J8: NF = 0,25*CC (anglais) + 0,15*CC (TICE)+ 0,6 *ET [(0,5*M + 0,5*O)] | K8: ET | L8: écrit et oral | M8: rédaction d'un manuscrit avec soutenance orale | O8: NF = 0,25*CC(anglais)+0,15*CC(TICE)+0,6 *ET [(0,5*M + 0,5*O)]
A9: SPL5U35 | B9: UE | C9: Étude de la langue | D9: 3 | E9: CC + ET | F9: note de CC reportée en session 2 | G9: écrit | H9: devoir sur table | I9: 2h | J9: NF = MAX [E; (0,6*E + 0,4*CC)] | K9: ET | L9: écrit | N9: 2h | O9: NF = MAX [E; (0,6*E + 0,4*CC)]
A10: SPL5K06 | B10: BCC | C10: Connaissances scientifiques fondamentales | D10: -
A11: SPL5U29 | B11: UE | C11: Mathématiques 1 | D11: 3 | E11: CC + ET | F11: note de CC reportée en session 2 | G11: écrit | I11: 2h | J11: NF=0,3*CC + 0,7*ET | K11: ET | L11: écrit | N11: 2h | O11: NF= MAX( ET ; 0,3* CC + 0,7 * ET)
A12: SPL5U36 | B12: UE | C12: De la cellule à l'organisme | D12: 4 | E12: CC + ET | F12: note de CC reportée en session 2 | G12: écrit | I12: 2h | J12: NF = 0,6*E + 0,4*CC | K12: ET | L12: Oral | O12: NF = MAX [O; (0,6*O + 0,4*CC)]
A13: SPL5U37 | B13: UE | C13: Terre dynamique | D13: 4 | E13: CC + ET | F13: note de CC et de TP reportée en session 2 | G13: écrit | H13: écrit | I13: 3h | J13: NF = MAX[(0,6*E + 0,2*CC + 0,2*TP); (0,7*E + 0,3*TP)] | K13: ET | L13: oral | O13: NF = MAX[O ; (0,8*O + 0,2*TP)]
A14: SPL5U38 | B14: UE | C14: Couleur : aspects physiques et chimiques | D14: 4 | E14: CC + ET | F14: ET de 2h, CC1 (moyenne notes TP), CC2 (APP chimie+DM physique), notes de CC1 et CC2 reportées en session 2 | G14: écrit | H14: devoir sur table | I14: 2h | J14: NF = 0,5*ET+0,2*CC1+0,3*CC2 | K14: ET | L14: écrit | M14: Ecrit : devoir sur table | N14: 2h | O14: NF = MAX [ET; (0,5*ET + 0,2*CC1+0,3*CC2)]
A15: SPL5K07 | B15: BCC | C15: Intégration des savoirs scientifiques et littéraires | D15: -
A16: SPL5U33 | B16: UE | C16: Littérature 1 | D16: 3 | E16: CC + ET | F16: note de CC reportée en session 2 | G16: écrit | H16: devoir sur table | I16: 2h | J16: NF = MAX [ET; (0,7*E + 0,3*CC)] | K16: ET | N16: 2h | O16: NF = MAX [ET; (0,7*E + 0,3*CC)
A17: SPL5U34 | B17: UE | C17: Biodiversité, transition écologique et développement durable | D17: 6 | E17: CC + ET | F17: note de CC reportée en session 2 | G17: Oral | J17: NF = 0,7*O + 0,3*CC | K17: ET | L17: oral | M17: oral | O17: NF = MAX [O; (0,7*O + 0,3*CC)]
A18: SPL5X05 | B18: SUP | C18: Enseignement supplémentaire en pédagogie | D18: -
